BEGIN:VCALENDAR
VERSION:2.0
PRODID:-//Tohono Chul - ECPv6.15.20//NONSGML v1.0//EN
CALSCALE:GREGORIAN
METHOD:PUBLISH
X-ORIGINAL-URL:https://tohonochul.org
X-WR-CALDESC:Events for Tohono Chul
REFRESH-INTERVAL;VALUE=DURATION:PT1H
X-Robots-Tag:noindex
X-PUBLISHED-TTL:PT1H
BEGIN:VTIMEZONE
TZID:America/Phoenix
BEGIN:STANDARD
TZOFFSETFROM:-0700
TZOFFSETTO:-0700
TZNAME:MST
DTSTART:20240101T000000
END:STANDARD
END:VTIMEZONE
BEGIN:VEVENT
DTSTART;TZID=America/Phoenix:20251010T170000
DTEND;TZID=America/Phoenix:20251010T200000
DTSTAMP:20260425T104937
CREATED:20250708T204157Z
LAST-MODIFIED:20250925T162408Z
UID:10005109-1760115600-1760126400@tohonochul.org
SUMMARY:The Southwest Native Plant Primer
DESCRIPTION:Friday\, October 10th | 5:00pm – 8:00 pm | Pavilion\nJoin Tohono Chul’s Gardens Manager Jack Dash and Engagement Manager Luke Takata for a special talk and book signing celebrating the release of The Southwest Native Plant Primer. This new book introduces 235 native wildflowers\, grasses\, vines\, cacti\, and trees suited for gardeners of all experience levels who want to create resilient\, ecologically beneficial landscapes. Covering the diverse yet interconnected regions of Arizona\, New Mexico\, and southern Utah and Colorado\, the book emphasizes the critical role native plants play in supporting biodiversity and conserving water in the face of a changing climate. Whether you’re just getting started or have years of experience in the garden\, this engaging event will offer fresh insights\, practical advice\, and inspiration for gardening with purpose in the Southwest! \n  \nRSVP | Free Admission \nCopies of The Southwest Native Plant Primer will be available for purchase along with beverages and non-alcoholic drinks.
URL:https://tohonochul.org/event/the-southwest-native-plant-primer/
LOCATION:Tohono Chul – Garden Pavilion
CATEGORIES:Class/Lecture,Free Event,Special Event
ATTACH;FMTTYPE=image/png:https://tohonochul.org/wp-content/uploads/2025/07/SouthwestNativePlantPrimer_Homepage-Slider-scaled.png
END:VEVENT
END:VCALENDAR