BEGIN:VCALENDAR
VERSION:2.0
PRODID:-//Tohono Chul - ECPv6.15.17.1//NONSGML v1.0//EN
CALSCALE:GREGORIAN
METHOD:PUBLISH
X-WR-CALNAME:Tohono Chul
X-ORIGINAL-URL:https://tohonochul.org
X-WR-CALDESC:Events for Tohono Chul
REFRESH-INTERVAL;VALUE=DURATION:PT1H
X-Robots-Tag:noindex
X-PUBLISHED-TTL:PT1H
BEGIN:VTIMEZONE
TZID:America/Phoenix
BEGIN:STANDARD
TZOFFSETFROM:-0700
TZOFFSETTO:-0700
TZNAME:MST
DTSTART:20250101T000000
END:STANDARD
END:VTIMEZONE
BEGIN:VEVENT
DTSTART;TZID=America/Phoenix:20260308T080000
DTEND;TZID=America/Phoenix:20260308T170000
DTSTAMP:20260420T044021
CREATED:20260115T211342Z
LAST-MODIFIED:20260302T225749Z
UID:10006298-1772956800-1772989200@tohonochul.org
SUMMARY:ED-VENTURE | INDIAN FAIR & MARKET at the HEARD MUSEUM
DESCRIPTION:Sun\, March 8 | 8:00 AM – 5:00 PM\nHeard Museum\, Phoenix\, AZ\n$130 Members | $150 General Public \nUSE PROMO CODE HEARD20 FOR 20% OFF YOUR RESERVATION! \nJoin us for a special day trip to the internationally renowned Heard Museum\, dedicated to connecting Indigenous creativity to the world by showcasing the voice and vision of American Indian artists. There\, you will experience one of the world’s largest and most celebrated American Indian art markets at the 68th Annual Indian Fair & Market! This special event brings together Indigenous artistry\, live entertainment\, delicious food\, and more. Enjoy free time to explore the museum’s stunning exhibits and immerse yourself in the energy of the fair and market. Tohono Chul’s Director of Arts\, James Schaub\, will facilitate the trip. Ed-venture pricing includes round-trip transportation\, plus admission to both the museum and the 68th Annual Indian Fair & Market. \nClick here to learn more about the 68th Annual Indian Fair & Market.
URL:https://tohonochul.org/event/ed-venture-indian-fair-market-at-the-heard-museum/
LOCATION:Main Parking Lot\, 7366 N. Paseo del Norte\, Tucson\, AZ\, 85704
CATEGORIES:Art,Experiences,Travel
ATTACH;FMTTYPE=image/jpeg:https://tohonochul.org/wp-content/uploads/2026/01/IndianFairMarket_26.jpg
ORGANIZER;CN="Karen Hayes":MAILTO:khayes@tohonochul.org
GEO:32.3398752;-110.9823312
X-APPLE-STRUCTURED-LOCATION;VALUE=URI;X-ADDRESS=Main Parking Lot 7366 N. Paseo del Norte Tucson AZ 85704;X-APPLE-RADIUS=500;X-TITLE=7366 N. Paseo del Norte:geo:-110.9823312,32.3398752
END:VEVENT
END:VCALENDAR