BEGIN:VCALENDAR
VERSION:2.0
PRODID:-//Tohono Chul - ECPv6.15.17.1//NONSGML v1.0//EN
CALSCALE:GREGORIAN
METHOD:PUBLISH
X-ORIGINAL-URL:https://tohonochul.org
X-WR-CALDESC:Events for Tohono Chul
REFRESH-INTERVAL;VALUE=DURATION:PT1H
X-Robots-Tag:noindex
X-PUBLISHED-TTL:PT1H
BEGIN:VTIMEZONE
TZID:America/Phoenix
BEGIN:STANDARD
TZOFFSETFROM:-0700
TZOFFSETTO:-0700
TZNAME:MST
DTSTART:20250101T000000
END:STANDARD
END:VTIMEZONE
BEGIN:VEVENT
DTSTART;TZID=America/Phoenix:20260219T173000
DTEND;TZID=America/Phoenix:20260219T200000
DTSTAMP:20260421T161508
CREATED:20260123T222422Z
LAST-MODIFIED:20260218T163321Z
UID:10006302-1771522200-1771531200@tohonochul.org
SUMMARY:Michael Chiago Sr. | GATHERING Reception with the Artist
DESCRIPTION:Thursday\, February 19 | 5:30 – 8:00 pm | Free and open to the public\nMichael Chaigo Sr. |  GATHERING centers on a body of works Tohono O’odham artist Michael Chiago created in his Phoenix studio over the last several years along with a cycle of works he created especially for Tohono Chul’s Saguaro Discovery Trail in 2003. Each piece is brimming with visual clues and information; they tell stories of creation\, everyday life\, seasonal harvests\, ceremonies\, unity\, and the preservation of land and heritage. Chiago was born on the O’odham reservation west of Tucson. His paintings depict traditional gatherings that bring his people together in friendship and prayer and are often set against a backdrop of mountains and the desert where he has lived most of his life. Complementing this survey of Chiago’s watercolors are baskets\, folk art\, and pottery from Tohono Chul’s Permanent Collection\, selected to reflect the gathering(s) depicted in Chiago’s work. \nWith live music in Sami’s Courtyard and a cash bar provided by the Garden Bistro. \nImage: Michael Chiago Sr.\, Origin of the Saguaro\, 2003 \n 
URL:https://tohonochul.org/event/michael-chiago-sr-gathering-reception-with-the-artist/
LOCATION:Tohono Chul – Main Gallery\, 7366 N. Paseo del Norte\, Tucson\, AZ\, 85704\, United States
CATEGORIES:Art,Free Event
ATTACH;FMTTYPE=image/jpeg:https://tohonochul.org/wp-content/uploads/2026/01/2003.2.3.jpg
ORGANIZER;CN="Karen Hayes":MAILTO:khayes@tohonochul.org
GEO:32.3392588;-110.9817301
X-APPLE-STRUCTURED-LOCATION;VALUE=URI;X-ADDRESS=Tohono Chul – Main Gallery 7366 N. Paseo del Norte Tucson AZ 85704 United States;X-APPLE-RADIUS=500;X-TITLE=7366 N. Paseo del Norte:geo:-110.9817301,32.3392588
END:VEVENT
END:VCALENDAR