BEGIN:VCALENDAR
VERSION:2.0
PRODID:-//Tohono Chul - ECPv6.15.17.1//NONSGML v1.0//EN
CALSCALE:GREGORIAN
METHOD:PUBLISH
X-ORIGINAL-URL:https://tohonochul.org
X-WR-CALDESC:Events for Tohono Chul
REFRESH-INTERVAL;VALUE=DURATION:PT1H
X-Robots-Tag:noindex
X-PUBLISHED-TTL:PT1H
BEGIN:VTIMEZONE
TZID:America/Phoenix
BEGIN:STANDARD
TZOFFSETFROM:-0700
TZOFFSETTO:-0700
TZNAME:MST
DTSTART:20250101T000000
END:STANDARD
END:VTIMEZONE
BEGIN:VEVENT
DTSTART;TZID=America/Phoenix:20260211T120000
DTEND;TZID=America/Phoenix:20260211T130000
DTSTAMP:20260421T125811
CREATED:20260128T174016Z
LAST-MODIFIED:20260128T174016Z
UID:10006310-1770811200-1770814800@tohonochul.org
SUMMARY:Alexandro Martinez | Artist Talk
DESCRIPTION:Wednesday\, February 11 | 12:00 pm | Wilson Room | Free Presentation \nAlexandro Martinez is back! If you missed Alex’s talk in December\, you have another chance to learn about the weaving process. \nAlex and his sisters\, Nancy\, Socorro\, Lorena and Fanny\, are part of a large family of Zapotec weavers. Their grandfather\, Eliseo Martinez\, founded Casa Martinez in 1936 and became well-known for the quality of his craft. Alex will discuss the natural dyes used to color the exquisite weavings produced himself and his family. Alex is passionate about weaving and keeping his culture alive. His love for the craft and desire to maintain the ancient traditions of his ancestors are evident in the heirloom quality of his products. Click here to learn more about Alex.
URL:https://tohonochul.org/event/alexandro-martinez-artist-talk/
LOCATION:Tohono Chul – Wilson Room\, 7366 N. Paseo del Norte\, Tucson\, AZ\, 85704\, United States
CATEGORIES:Art,Class/Lecture,Free Event
ATTACH;FMTTYPE=image/jpeg:https://tohonochul.org/wp-content/uploads/2025/11/Alexandro-promo2-scaled.jpg
ORGANIZER;CN="Karen Hayes":MAILTO:khayes@tohonochul.org
GEO:32.3392588;-110.9817301
X-APPLE-STRUCTURED-LOCATION;VALUE=URI;X-ADDRESS=Tohono Chul – Wilson Room 7366 N. Paseo del Norte Tucson AZ 85704 United States;X-APPLE-RADIUS=500;X-TITLE=7366 N. Paseo del Norte:geo:-110.9817301,32.3392588
END:VEVENT
END:VCALENDAR