BEGIN:VCALENDAR
VERSION:2.0
PRODID:-//Tohono Chul - ECPv6.15.20//NONSGML v1.0//EN
CALSCALE:GREGORIAN
METHOD:PUBLISH
X-ORIGINAL-URL:https://tohonochul.org
X-WR-CALDESC:Events for Tohono Chul
REFRESH-INTERVAL;VALUE=DURATION:PT1H
X-Robots-Tag:noindex
X-PUBLISHED-TTL:PT1H
BEGIN:VTIMEZONE
TZID:America/Phoenix
BEGIN:STANDARD
TZOFFSETFROM:-0700
TZOFFSETTO:-0700
TZNAME:MST
DTSTART:20250101T000000
END:STANDARD
END:VTIMEZONE
BEGIN:VEVENT
DTSTART;TZID=America/Phoenix:20260524T110000
DTEND;TZID=America/Phoenix:20260524T120000
DTSTAMP:20260425T111642
CREATED:20250109T214022Z
LAST-MODIFIED:20250109T214022Z
UID:10004154-1779620400-1779624000@tohonochul.org
SUMMARY:Clay Play at Children's Museum Oro Valley
DESCRIPTION:Unleash your child’s creativity at the Children’s Museum Oro Valley with Clay Play! \nEvery Tuesday and Sunday from 11 AM to 12 PM\, little ones can explore the joys of hands-on sculpting and crafting with clay. Perfect for curious minds and tiny hands\, this interactive activity encourages imagination and creativity. Don’t miss this opportunity for your child to create\, play\, and learn!
URL:https://tohonochul.org/event/clay-play-at-childrens-museum-oro-valley/2026-05-24/
LOCATION:Children’s Museum Oro Valley at Tohono Chul
CATEGORIES:Children's Museum Oro Valley
ATTACH;FMTTYPE=image/webp:https://tohonochul.org/wp-content/uploads/2025/01/Clay-Play-Hour.webp
END:VEVENT
BEGIN:VEVENT
DTSTART;TZID=America/Phoenix:20260526T110000
DTEND;TZID=America/Phoenix:20260526T120000
DTSTAMP:20260425T111642
CREATED:20250109T214022Z
LAST-MODIFIED:20250109T214022Z
UID:10004155-1779793200-1779796800@tohonochul.org
SUMMARY:Clay Play at Children's Museum Oro Valley
DESCRIPTION:Unleash your child’s creativity at the Children’s Museum Oro Valley with Clay Play! \nEvery Tuesday and Sunday from 11 AM to 12 PM\, little ones can explore the joys of hands-on sculpting and crafting with clay. Perfect for curious minds and tiny hands\, this interactive activity encourages imagination and creativity. Don’t miss this opportunity for your child to create\, play\, and learn!
URL:https://tohonochul.org/event/clay-play-at-childrens-museum-oro-valley/2026-05-26/
LOCATION:Children’s Museum Oro Valley at Tohono Chul
CATEGORIES:Children's Museum Oro Valley
ATTACH;FMTTYPE=image/webp:https://tohonochul.org/wp-content/uploads/2025/01/Clay-Play-Hour.webp
END:VEVENT
BEGIN:VEVENT
DTSTART;TZID=America/Phoenix:20260528T080000
DTEND;TZID=America/Phoenix:20260528T090000
DTSTAMP:20260425T111642
CREATED:20250904T193559Z
LAST-MODIFIED:20251124T222111Z
UID:10005681-1779955200-1779958800@tohonochul.org
SUMMARY:Nature Journaling
DESCRIPTION:Every Thursday | 8 am | Tohono Chul Entrance | Free\n Join the Southern Arizona Nature Journal Club to learn about Nature Journaling and immerse yourself in the natural world! \nThis casual meet-up is perfect for those who enjoy going outside\, sketching\, observing\, and meeting fellow nature enthusiasts. The group meets at our park’s entrance and explores a different aspect of the park each week.  This meet-up is open to all ages\, and beginners are encouraged to join. The Journal Club recommends bringing a journal and your preferred journaling supplies.
URL:https://tohonochul.org/event/nature-journaling-3/2026-05-28/
ATTACH;FMTTYPE=image/png:https://tohonochul.org/wp-content/uploads/2025/05/NatureJournaling_Homepage-Slider-scaled.png
END:VEVENT
BEGIN:VEVENT
DTSTART;TZID=America/Phoenix:20260529T180000
DTEND;TZID=America/Phoenix:20260529T210000
DTSTAMP:20260425T111642
CREATED:20260422T003341Z
LAST-MODIFIED:20260422T003341Z
UID:10006403-1780077600-1780088400@tohonochul.org
SUMMARY:Chillin' at the Chul
DESCRIPTION:Chillin’ at the Chul\nSat\, May 23 – Fri\, August 28\, 2026\nFridays & Saturdays | 6–9 PM (gates at 5:30 PM) \nAdmission\nMembers: Free | General: $6 | Youth (2–17): $3 | Under 2: Free \nEnjoy cooler summer evenings with live music\, drinks\, art\, family-friendly activities\, and bites from the Garden Bistro—set in the shaded beauty of the gardens. \nFridays include Rotating experiences like Silent Disco\, themed nights\, and more.\nSaturdays include family-focused fun with Children’s Museum Oro Valley \nClick here for details\, menus\, performance schedule\, and more. 
URL:https://tohonochul.org/event/chillin-at-the-chul-2/2026-05-29/
END:VEVENT
BEGIN:VEVENT
DTSTART;TZID=America/Phoenix:20260530T180000
DTEND;TZID=America/Phoenix:20260530T210000
DTSTAMP:20260425T111642
CREATED:20260422T003341Z
LAST-MODIFIED:20260422T003341Z
UID:10006404-1780164000-1780174800@tohonochul.org
SUMMARY:Chillin' at the Chul
DESCRIPTION:Chillin’ at the Chul\nSat\, May 23 – Fri\, August 28\, 2026\nFridays & Saturdays | 6–9 PM (gates at 5:30 PM) \nAdmission\nMembers: Free | General: $6 | Youth (2–17): $3 | Under 2: Free \nEnjoy cooler summer evenings with live music\, drinks\, art\, family-friendly activities\, and bites from the Garden Bistro—set in the shaded beauty of the gardens. \nFridays include Rotating experiences like Silent Disco\, themed nights\, and more.\nSaturdays include family-focused fun with Children’s Museum Oro Valley \nClick here for details\, menus\, performance schedule\, and more. 
URL:https://tohonochul.org/event/chillin-at-the-chul-2/2026-05-30/
END:VEVENT
END:VCALENDAR